BEGIN:VCALENDAR
VERSION:2.0
METHOD:PUBLISH
CALSCALE:GREGORIAN
PRODID:-//Refresh Web Development//Helios Calendar//EN
X-FROM-URL:https://www.bayareascience.org/calendar/index.php?com=details&eID=17851
X-WR-RELCALID:BayAreaScience.org Pint of Science Festival - San Francisco 20160525T190000
X-WR-TIMEZONE:America/New_York
X-WR-CALNAME:BayAreaScience.org
BEGIN:VEVENT
URL;VALUE=URI:https://www.bayareascience.org/calendar/index.php?com=detail&eID=17851
DTSTART:20160525T190000
DTEND:20160525T213000
SUMMARY:Pint of Science Festival - San Francisco
DESCRIPTION:Ever wanted to learn science without the difficult jargon? How about talking to a scientist over a beer? Because we could all agree that learning science is more fun with a cold pint in your...\n______________________________\nThis Event Downloaded From a Helios Calendar Powered Site
LOCATION:Black Hammer Brewing - 544 Bryant St \, San Francisco\, CA  94107
CATEGORIES:BayAreaScience.org Events
PRIORITY:0
TRANSP:TRANSPARENT
END:VEVENT
END:VCALENDAR