BEGIN:VCALENDAR
VERSION:2.0
METHOD:PUBLISH
CALSCALE:GREGORIAN
PRODID:-//Refresh Web Development//Helios Calendar//EN
X-FROM-URL:https://www.bayareascience.org/calendar/index.php?com=details&eID=18529
X-WR-RELCALID:BayAreaScience.org UCSF Biotechnology Vendor Showcase Event 20170608T100000
X-WR-TIMEZONE:America/New_York
X-WR-CALNAME:BayAreaScience.org
BEGIN:VEVENT
URL;VALUE=URI:https://www.bayareascience.org/calendar/index.php?com=detail&eID=18529
DTSTART:20170608T100000
DTEND:20170608T143000
SUMMARY:UCSF Biotechnology Vendor Showcase Event
DESCRIPTION:This event is one of Biotechnology-Calendar Inc.'s on-campus\, life science research tradeshows. They plan and promote each event to bring the best products and services to the best research campuses...\n______________________________\nThis Event Downloaded From a Helios Calendar Powered Site
LOCATION:UC San Francisco Mission Bay - 1675 Owens Street Conference Center\, San Francisco\, CA USA 94143
CATEGORIES:BayAreaScience.org Events
PRIORITY:0
TRANSP:TRANSPARENT
END:VEVENT
END:VCALENDAR