BEGIN:VCALENDAR
VERSION:2.0
METHOD:PUBLISH
CALSCALE:GREGORIAN
PRODID:-//Refresh Web Development//Helios Calendar//EN
X-FROM-URL:https://www.bayareascience.org/calendar/index.php?com=details&eID=19612
X-WR-RELCALID:BayAreaScience.org Botany Series: Basic Botany 20170209T090000
X-WR-TIMEZONE:America/New_York
X-WR-CALNAME:BayAreaScience.org
BEGIN:VEVENT
URL;VALUE=URI:https://www.bayareascience.org/calendar/index.php?com=detail&eID=19612
DTSTART:20170209T090000
DTEND:20170209T123000
SUMMARY:Botany Series: Basic Botany
DESCRIPTION:How do plants work? If itâ€™s been way too long since that high school biology class\, come take a step back with Annette Russell (Presidio Nursery Manager). We will learn the basic processes...\n______________________________\nThis Event Downloaded From a Helios Calendar Powered Site
LOCATION:Presidio Native Plant Nursery - 1249A Appleton St \, San Francisco\, CA  94129
CATEGORIES:BayAreaScience.org Events
PRIORITY:0
TRANSP:TRANSPARENT
END:VEVENT
END:VCALENDAR