BEGIN:VCALENDAR
VERSION:2.0
METHOD:PUBLISH
CALSCALE:GREGORIAN
PRODID:-//Refresh Web Development//Helios Calendar//EN
X-FROM-URL:https://www.bayareascience.org/calendar/index.php?com=details&eID=19625
X-WR-RELCALID:BayAreaScience.org Water Birds at Lake Merritt 20170213T110000
X-WR-TIMEZONE:America/New_York
X-WR-CALNAME:BayAreaScience.org
BEGIN:VEVENT
URL;VALUE=URI:https://www.bayareascience.org/calendar/index.php?com=detail&eID=19625
DTSTART:20170213T110000
DTEND:20170213T120000
SUMMARY:Water Birds at Lake Merritt
DESCRIPTION:Migrating birds are here! See which winter visitors are currently at Lake Merritt\, the nation's oldest wildlife refuge.Â Â Join us for a short walk...\n______________________________\nThis Event Downloaded From a Helios Calendar Powered Site
LOCATION:Lake Merritt Rotary Nature Center - 600 Bellevue Ave \, Oakland\, CA  94610
CATEGORIES:BayAreaScience.org Events
PRIORITY:0
TRANSP:TRANSPARENT
END:VEVENT
END:VCALENDAR