BEGIN:VCALENDAR
VERSION:2.0
METHOD:PUBLISH
CALSCALE:GREGORIAN
PRODID:-//Refresh Web Development//Helios Calendar//EN
X-FROM-URL:https://www.bayareascience.org/calendar/index.php?com=details&eID=25110
X-WR-RELCALID:BayAreaScience.org Welcome to Wildlife Nature Camp 20190518T100000
X-WR-TIMEZONE:America/New_York
X-WR-CALNAME:BayAreaScience.org
BEGIN:VEVENT
URL;VALUE=URI:https://www.bayareascience.org/calendar/index.php?com=detail&eID=25110
DTSTART:20190518T100000
DTEND:20190518T150000
SUMMARY:Welcome to Wildlife Nature Camp
DESCRIPTION:Calling All Eco-Explorers! Youth ages 5-15 will be up to...\n______________________________\nThis Event Downloaded From a Helios Calendar Powered Site
LOCATION:Peralta Hacienda Historical Park - 2465 34th Avenue \, Oakland\, CA  94601
CATEGORIES:BayAreaScience.org Events
PRIORITY:0
TRANSP:TRANSPARENT
END:VEVENT
END:VCALENDAR