BEGIN:VCALENDAR
VERSION:2.0
METHOD:PUBLISH
CALSCALE:GREGORIAN
PRODID:-//Refresh Web Development//Helios Calendar//EN
X-FROM-URL:https://www.bayareascience.org/calendar/index.php?com=details&eID=30052
X-WR-RELCALID:BayAreaScience.org Virtual Telescope Viewing - Livestream 20210904T210000
X-WR-TIMEZONE:America/New_York
X-WR-CALNAME:BayAreaScience.org
BEGIN:VEVENT
URL;VALUE=URI:https://www.bayareascience.org/calendar/index.php?com=detail&eID=30052
DTSTART:20210904T210000
DTEND:20210904T223000
SUMMARY:Virtual Telescope Viewing - Livestream
DESCRIPTION:Join our resident astronomers...\n______________________________\nThis Event Downloaded From a Helios Calendar Powered Site
LOCATION:Chabot Space and Science Center -  \, \, CA  
CATEGORIES:BayAreaScience.org Events
PRIORITY:0
TRANSP:TRANSPARENT
END:VEVENT
END:VCALENDAR