BEGIN:VCALENDAR
VERSION:2.0
METHOD:PUBLISH
CALSCALE:GREGORIAN
PRODID:-//Refresh Web Development//Helios Calendar//EN
X-FROM-URL:https://www.bayareascience.org/calendar/index.php?com=details&eID=30135
X-WR-RELCALID:BayAreaScience.org Fire Ecology of California 20210918T133000
X-WR-TIMEZONE:America/New_York
X-WR-CALNAME:BayAreaScience.org
BEGIN:VEVENT
URL;VALUE=URI:https://www.bayareascience.org/calendar/index.php?com=detail&eID=30135
DTSTART:20210918T133000
DTEND:20210918T143000
SUMMARY:Fire Ecology of California
DESCRIPTION:Fires are an important fact of life in California. Humans have developed ways to deal with the fire season\, but what about plants and animals? In what ways are they...\n______________________________\nThis Event Downloaded From a Helios Calendar Powered Site
LOCATION:Environmental Volunteers EcoCenter - 2560 Embarcadero Road \, Palo Alto\, CA  94303
CATEGORIES:BayAreaScience.org Events
PRIORITY:0
TRANSP:TRANSPARENT
END:VEVENT
END:VCALENDAR