BEGIN:VCALENDAR
VERSION:2.0
METHOD:PUBLISH
CALSCALE:GREGORIAN
PRODID:-//Refresh Web Development//Helios Calendar//EN
X-FROM-URL:https://www.bayareascience.org/calendar/index.php?com=details&eID=30137
X-WR-RELCALID:BayAreaScience.org Fall 2021 King Tides Program 20211106T140000
X-WR-TIMEZONE:America/New_York
X-WR-CALNAME:BayAreaScience.org
BEGIN:VEVENT
URL;VALUE=URI:https://www.bayareascience.org/calendar/index.php?com=detail&eID=30137
DTSTART:20211106T140000
DTEND:20211106T153000
SUMMARY:Fall 2021 King Tides Program
DESCRIPTION:Each year\, the King Tides come to the Palo Alto Baylands (and much of the California Coast!). Join us in a fun\, interactive learning experience which will teach...\n______________________________\nThis Event Downloaded From a Helios Calendar Powered Site
LOCATION:Environmental Volunteers EcoCenter - 2560 Embarcadero Road \, Palo Alto\, CA  94303
CATEGORIES:BayAreaScience.org Events
PRIORITY:0
TRANSP:TRANSPARENT
END:VEVENT
END:VCALENDAR