BEGIN:VCALENDAR
VERSION:2.0
METHOD:PUBLISH
CALSCALE:GREGORIAN
PRODID:-//Refresh Web Development//Helios Calendar//EN
X-FROM-URL:https://www.bayareascience.org/calendar/index.php?com=details&eID=30495
X-WR-RELCALID:BayAreaScience.org The Chimpanzee Within Us: Why are Humans the Way We Are? - Livestream 20210407T160000
X-WR-TIMEZONE:America/New_York
X-WR-CALNAME:BayAreaScience.org
BEGIN:VEVENT
URL;VALUE=URI:https://www.bayareascience.org/calendar/index.php?com=detail&eID=30495
DTSTART:20210407T160000
DTEND:20210407T170000
SUMMARY:The Chimpanzee Within Us: Why are Humans the Way We Are? - Livestream
DESCRIPTION:One way to answer this question is to look to our closest cousins\, the chimpanzees. Join Assistant Professor of Psychology and AnthropologyÂ Alexandra RosatiÂ of the University...\n______________________________\nThis Event Downloaded From a Helios Calendar Powered Site
LOCATION:The Leakey Foundation -  \, \, CA  
CATEGORIES:BayAreaScience.org Events
PRIORITY:0
TRANSP:TRANSPARENT
END:VEVENT
END:VCALENDAR