BEGIN:VCALENDAR
VERSION:2.0
METHOD:PUBLISH
CALSCALE:GREGORIAN
PRODID:-//Refresh Web Development//Helios Calendar//EN
X-FROM-URL:https://www.bayareascience.org/calendar/index.php?com=details&eID=30646
X-WR-RELCALID:BayAreaScience.org Micromitigation: Fighting Air Pollution with Activated Carbon - Livestream 20211021T190000
X-WR-TIMEZONE:America/New_York
X-WR-CALNAME:BayAreaScience.org
BEGIN:VEVENT
URL;VALUE=URI:https://www.bayareascience.org/calendar/index.php?com=detail&eID=30646
DTSTART:20211021T190000
DTEND:20211021T210000
SUMMARY:Micromitigation: Fighting Air Pollution with Activated Carbon - Livestream
DESCRIPTION:We would like to invite new members to join Counter Culture Labs' Micromitigation Meetup alternate Thursdays. We will be discussing ways to deploy existing adsorption technology...\n______________________________\nThis Event Downloaded From a Helios Calendar Powered Site
LOCATION:Counter Culture Labs -  \, \, CA  
CATEGORIES:BayAreaScience.org Events
PRIORITY:0
TRANSP:TRANSPARENT
END:VEVENT
END:VCALENDAR