BEGIN:VCALENDAR
VERSION:2.0
METHOD:PUBLISH
CALSCALE:GREGORIAN
PRODID:-//Refresh Web Development//Helios Calendar//EN
X-FROM-URL:https://www.bayareascience.org/calendar/index.php?com=details&eID=30691
X-WR-RELCALID:BayAreaScience.org Maria Sibylla Merian, A Passion for Plants and Insects - Livestream 20210604T110000
X-WR-TIMEZONE:America/New_York
X-WR-CALNAME:BayAreaScience.org
BEGIN:VEVENT
URL;VALUE=URI:https://www.bayareascience.org/calendar/index.php?com=detail&eID=30691
DTSTART:20210604T110000
DTEND:20210604T120000
SUMMARY:Maria Sibylla Merian\, A Passion for Plants and Insects - Livestream
DESCRIPTION:Join us for this illustrated lecture given...\n______________________________\nThis Event Downloaded From a Helios Calendar Powered Site
LOCATION:UC Botanical Garden -  \, \, CA  
CATEGORIES:BayAreaScience.org Events
PRIORITY:0
TRANSP:TRANSPARENT
END:VEVENT
END:VCALENDAR