BEGIN:VCALENDAR
VERSION:2.0
METHOD:PUBLISH
CALSCALE:GREGORIAN
PRODID:-//Refresh Web Development//Helios Calendar//EN
X-FROM-URL:https://www.bayareascience.org/calendar/index.php?com=details&eID=30796
X-WR-RELCALID:BayAreaScience.org Wildlife Tracking: Tracking Basics and a story about Badgers - Livestream 20210611T120000
X-WR-TIMEZONE:America/New_York
X-WR-CALNAME:BayAreaScience.org
BEGIN:VEVENT
URL;VALUE=URI:https://www.bayareascience.org/calendar/index.php?com=detail&eID=30796
DTSTART:20210611T120000
DTEND:20210611T130000
SUMMARY:Wildlife Tracking: Tracking Basics and a story about Badgers - Livestream
DESCRIPTION:Wildlife is all around us in the Bay Area. Diverse species of animals filter through our urban landscapes\, crossing the boundaries of our homes\, cities and the protected landsthat surround our...\n______________________________\nThis Event Downloaded From a Helios Calendar Powered Site
LOCATION:Peninsula Open Space Trust -  \, \, CA  
CATEGORIES:BayAreaScience.org Events
PRIORITY:0
TRANSP:TRANSPARENT
END:VEVENT
END:VCALENDAR