BEGIN:VCALENDAR
VERSION:2.0
METHOD:PUBLISH
CALSCALE:GREGORIAN
PRODID:-//Refresh Web Development//Helios Calendar//EN
X-FROM-URL:https://www.bayareascience.org/calendar/index.php?com=details&eID=30817
X-WR-RELCALID:BayAreaScience.org What Peculiar Vibrations of the Entire Earth Can Teach Us About Earth's Deep Interior - Livestream 20210825T180000
X-WR-TIMEZONE:America/New_York
X-WR-CALNAME:BayAreaScience.org
BEGIN:VEVENT
URL;VALUE=URI:https://www.bayareascience.org/calendar/index.php?com=detail&eID=30817
DTSTART:20210825T180000
DTEND:20210825T190000
SUMMARY:What Peculiar Vibrations of the Entire Earth Can Teach Us About Earth's Deep Interior - Livestream
DESCRIPTION:Speaker: Dr. Harriet Lau\, UC BerkeleySee weblink for registration information\n______________________________\nThis Event Downloaded From a Helios Calendar Powered Site
LOCATION:UC Berkeley -  \, \, CA  
CATEGORIES:BayAreaScience.org Events
PRIORITY:0
TRANSP:TRANSPARENT
END:VEVENT
END:VCALENDAR