BEGIN:VCALENDAR
VERSION:2.0
METHOD:PUBLISH
CALSCALE:GREGORIAN
PRODID:-//Refresh Web Development//Helios Calendar//EN
X-FROM-URL:https://www.bayareascience.org/calendar/index.php?com=details&eID=30846
X-WR-RELCALID:BayAreaScience.org Modeling Cells and Organelles on Computers - Livestream 20210722T130000
X-WR-TIMEZONE:America/New_York
X-WR-CALNAME:BayAreaScience.org
BEGIN:VEVENT
URL;VALUE=URI:https://www.bayareascience.org/calendar/index.php?com=detail&eID=30846
DTSTART:20210722T130000
DTEND:20210722T140000
SUMMARY:Modeling Cells and Organelles on Computers - Livestream
DESCRIPTION:In this hands-on computational workshop\, we will analyze microscopy images of molecular motors and then learn about the physics and mechanics of cell division. We will also use computer code in...\n______________________________\nThis Event Downloaded From a Helios Calendar Powered Site
LOCATION:UC Merced -  \, \, CA  
CATEGORIES:BayAreaScience.org Events
PRIORITY:0
TRANSP:TRANSPARENT
END:VEVENT
END:VCALENDAR