BEGIN:VCALENDAR
VERSION:2.0
METHOD:PUBLISH
CALSCALE:GREGORIAN
PRODID:-//Refresh Web Development//Helios Calendar//EN
X-FROM-URL:https://www.bayareascience.org/calendar/index.php?com=details&eID=30847
X-WR-RELCALID:BayAreaScience.org Circus of Science (Home Edition) - Livestream 20210727T110000
X-WR-TIMEZONE:America/New_York
X-WR-CALNAME:BayAreaScience.org
BEGIN:VEVENT
URL;VALUE=URI:https://www.bayareascience.org/calendar/index.php?com=detail&eID=30847
DTSTART:20210727T110000
DTEND:20210727T120000
SUMMARY:Circus of Science (Home Edition) - Livestream
DESCRIPTION:A variety of fun\, hands-on science (magic?) activities that can be done at home with materials you already have\, meant to help you look at the world around you a little bit differently. The suggested...\n______________________________\nThis Event Downloaded From a Helios Calendar Powered Site
LOCATION:UC Merced -  \, \, CA  
CATEGORIES:BayAreaScience.org Events
PRIORITY:0
TRANSP:TRANSPARENT
END:VEVENT
END:VCALENDAR