BEGIN:VCALENDAR
VERSION:2.0
METHOD:PUBLISH
CALSCALE:GREGORIAN
PRODID:-//Refresh Web Development//Helios Calendar//EN
X-FROM-URL:https://www.bayareascience.org/calendar/index.php?com=details&eID=30851
X-WR-RELCALID:BayAreaScience.org The Fungal World Wide Web - Livestream 20210826T160000
X-WR-TIMEZONE:America/New_York
X-WR-CALNAME:BayAreaScience.org
BEGIN:VEVENT
URL;VALUE=URI:https://www.bayareascience.org/calendar/index.php?com=detail&eID=30851
DTSTART:20210826T160000
DTEND:20210826T170000
SUMMARY:The Fungal World Wide Web - Livestream
DESCRIPTION:Hidden in the ground beneath us is an information superhighway made up of diverse biological cell populations that allow individuals who may be widely separated to communicate and help each other...\n______________________________\nThis Event Downloaded From a Helios Calendar Powered Site
LOCATION:UC Merced -  \, \, CA  
CATEGORIES:BayAreaScience.org Events
PRIORITY:0
TRANSP:TRANSPARENT
END:VEVENT
END:VCALENDAR