BEGIN:VCALENDAR
VERSION:2.0
METHOD:PUBLISH
CALSCALE:GREGORIAN
PRODID:-//Refresh Web Development//Helios Calendar//EN
X-FROM-URL:https://www.bayareascience.org/calendar/index.php?com=details&eID=30852
X-WR-RELCALID:BayAreaScience.org May the Forces Be with You - Measuring Forces that Hold Molecules Together - Livestream 20210914T160000
X-WR-TIMEZONE:America/New_York
X-WR-CALNAME:BayAreaScience.org
BEGIN:VEVENT
URL;VALUE=URI:https://www.bayareascience.org/calendar/index.php?com=detail&eID=30852
DTSTART:20210914T160000
DTEND:20210914T170000
SUMMARY:May the Forces Be with You - Measuring Forces that Hold Molecules Together - Livestream
DESCRIPTION:In these interactive sessions\, we will talk about the forces that hold solids and liquids together\, fabricate our own force measuring apparatus\, and quantify the strength of glues. Finally\, we...\n______________________________\nThis Event Downloaded From a Helios Calendar Powered Site
LOCATION:UC Merced -  \, \, CA  
CATEGORIES:BayAreaScience.org Events
PRIORITY:0
TRANSP:TRANSPARENT
END:VEVENT
END:VCALENDAR