BEGIN:VCALENDAR
VERSION:2.0
METHOD:PUBLISH
CALSCALE:GREGORIAN
PRODID:-//Refresh Web Development//Helios Calendar//EN
X-FROM-URL:https://www.bayareascience.org/calendar/index.php?com=details&eID=30909
X-WR-RELCALID:BayAreaScience.org Asteroid Day Celebration - Livestream 20210630T190000
X-WR-TIMEZONE:America/New_York
X-WR-CALNAME:BayAreaScience.org
BEGIN:VEVENT
URL;VALUE=URI:https://www.bayareascience.org/calendar/index.php?com=detail&eID=30909
DTSTART:20210630T190000
DTEND:20210630T200000
SUMMARY:Asteroid Day Celebration - Livestream
DESCRIPTION:Join us forÂ anÂ asteroid dayÂ celebration\, a global effort to highlight asteroid detection\, research\,Â as well asÂ theÂ current and future missions to explore...\n______________________________\nThis Event Downloaded From a Helios Calendar Powered Site
LOCATION:Chabot Space and Science Center -  \, \, CA  
CATEGORIES:BayAreaScience.org Events
PRIORITY:0
TRANSP:TRANSPARENT
END:VEVENT
END:VCALENDAR