BEGIN:VCALENDAR
VERSION:2.0
METHOD:PUBLISH
CALSCALE:GREGORIAN
PRODID:-//Refresh Web Development//Helios Calendar//EN
X-FROM-URL:https://www.bayareascience.org/calendar/index.php?com=details&eID=30920
X-WR-RELCALID:BayAreaScience.org The Drake Equation: Livestream 20210716T193000
X-WR-TIMEZONE:America/New_York
X-WR-CALNAME:BayAreaScience.org
BEGIN:VEVENT
URL;VALUE=URI:https://www.bayareascience.org/calendar/index.php?com=detail&eID=30920
DTSTART:20210716T193000
DTEND:20210716T193000
SUMMARY:The Drake Equation: Livestream
DESCRIPTION:At the heart of the Search for Extraterrestrial Intelligence (SETI) lies the Drake Equation\, a mathematically simple yet fascinatingly enigmatic formula proposed by American astronomer and SETI...\n______________________________\nThis Event Downloaded From a Helios Calendar Powered Site
LOCATION:Tri-Valley Stargazers -  \, \, CA  
CATEGORIES:BayAreaScience.org Events
PRIORITY:0
TRANSP:TRANSPARENT
END:VEVENT
END:VCALENDAR