BEGIN:VCALENDAR
VERSION:2.0
METHOD:PUBLISH
CALSCALE:GREGORIAN
PRODID:-//Refresh Web Development//Helios Calendar//EN
X-FROM-URL:https://www.bayareascience.org/calendar/index.php?com=details&eID=30921
X-WR-RELCALID:BayAreaScience.org Ecosystem Restoration from Roots to Reefs - What's Happening and Why it's Essential for Ocean Health -Livestream 20210727T190000
X-WR-TIMEZONE:America/New_York
X-WR-CALNAME:BayAreaScience.org
BEGIN:VEVENT
URL;VALUE=URI:https://www.bayareascience.org/calendar/index.php?com=detail&eID=30921
DTSTART:20210727T190000
DTEND:20210727T203000
SUMMARY:Ecosystem Restoration from Roots to Reefs - What's Happening and Why it's Essential for Ocean Health -Livestream
DESCRIPTION:Join us for a captivating evening with Dr. Gretchen Coffman to explore the importance of mangroves to the health of ocean ecosystems. Dr. Coffman will discuss her work connecting the interdependencies...\n______________________________\nThis Event Downloaded From a Helios Calendar Powered Site
LOCATION:American Cetacean Society -  \, \, CA  
CATEGORIES:BayAreaScience.org Events
PRIORITY:0
TRANSP:TRANSPARENT
END:VEVENT
END:VCALENDAR