BEGIN:VCALENDAR
VERSION:2.0
METHOD:PUBLISH
CALSCALE:GREGORIAN
PRODID:-//Refresh Web Development//Helios Calendar//EN
X-FROM-URL:https://www.bayareascience.org/calendar/index.php?com=details&eID=30924
X-WR-RELCALID:BayAreaScience.org Wonderfest: Rovers, Helicopters, & Ancient Martians: Why We Explore Mars - Livestream 20210726T190000
X-WR-TIMEZONE:America/New_York
X-WR-CALNAME:BayAreaScience.org
BEGIN:VEVENT
URL;VALUE=URI:https://www.bayareascience.org/calendar/index.php?com=detail&eID=30924
DTSTART:20210726T190000
DTEND:20210726T203000
SUMMARY:Wonderfest: Rovers\, Helicopters\, & Ancient Martians: Why We Explore Mars - Livestream
DESCRIPTION:In 2021\, three nations are sending missions to the Red Planet - including NASA's Perseverance rover with the first Mars helicopter\, Ingenuity. Ancient Mars was much like Earth\,...\n______________________________\nThis Event Downloaded From a Helios Calendar Powered Site
LOCATION:Hopmonk Tavern - Session Room 224 Vintage Way\, Novato\, CA  94945
CATEGORIES:BayAreaScience.org Events
PRIORITY:0
TRANSP:TRANSPARENT
END:VEVENT
END:VCALENDAR