BEGIN:VCALENDAR
VERSION:2.0
METHOD:PUBLISH
CALSCALE:GREGORIAN
PRODID:-//Refresh Web Development//Helios Calendar//EN
X-FROM-URL:https://www.bayareascience.org/calendar/index.php?com=details&eID=30931
X-WR-RELCALID:BayAreaScience.org Coyote Point Movie Nights 20211030T190000
X-WR-TIMEZONE:America/New_York
X-WR-CALNAME:BayAreaScience.org
BEGIN:VEVENT
URL;VALUE=URI:https://www.bayareascience.org/calendar/index.php?com=detail&eID=30931
DTSTART:20211030T190000
DTEND:20211030T190000
SUMMARY:Coyote Point Movie Nights
DESCRIPTION:Gather friends and family\, pack a picnic and join CuriOdyssey for a fun-filled summer evening during Coyote Point Movie Nights in July\, August\, September and October at Coyote Point Park in San...\n______________________________\nThis Event Downloaded From a Helios Calendar Powered Site
LOCATION:Coyote Point Recreation Area - 1701 Coyote Point Drive \, San Mateo\, CA United States 94401
CATEGORIES:BayAreaScience.org Events
PRIORITY:0
TRANSP:TRANSPARENT
END:VEVENT
END:VCALENDAR