BEGIN:VCALENDAR
VERSION:2.0
METHOD:PUBLISH
CALSCALE:GREGORIAN
PRODID:-//Refresh Web Development//Helios Calendar//EN
X-FROM-URL:https://www.bayareascience.org/calendar/index.php?com=details&eID=30932
X-WR-RELCALID:BayAreaScience.org Engineering Mars Missions - LiveStream 20210706T120000
X-WR-TIMEZONE:America/New_York
X-WR-CALNAME:BayAreaScience.org
BEGIN:VEVENT
URL;VALUE=URI:https://www.bayareascience.org/calendar/index.php?com=detail&eID=30932
DTSTART:20210706T120000
DTEND:20210706T133000
SUMMARY:Engineering Mars Missions - LiveStream
DESCRIPTION:The Red Planet is ablaze with interest upon the recent arrival ofÂ PerseveranceÂ rover...\n______________________________\nThis Event Downloaded From a Helios Calendar Powered Site
LOCATION:Redwood Canyon Golf Course - 17007 Redwood Road \, Castro Valley\, CA USA 94546
CATEGORIES:BayAreaScience.org Events
PRIORITY:0
TRANSP:TRANSPARENT
END:VEVENT
END:VCALENDAR