BEGIN:VCALENDAR
VERSION:2.0
METHOD:PUBLISH
CALSCALE:GREGORIAN
PRODID:-//Refresh Web Development//Helios Calendar//EN
X-FROM-URL:https://www.bayareascience.org/calendar/index.php?com=details&eID=30938
X-WR-RELCALID:BayAreaScience.org Animal Adaptation in the Anthropocene - Livestream 20210729T170000
X-WR-TIMEZONE:America/New_York
X-WR-CALNAME:BayAreaScience.org
BEGIN:VEVENT
URL;VALUE=URI:https://www.bayareascience.org/calendar/index.php?com=detail&eID=30938
DTSTART:20210729T170000
DTEND:20210729T170000
SUMMARY:Animal Adaptation in the Anthropocene - Livestream
DESCRIPTION:The present has been described as the "Anthropocene" or "human epoch": a time when humans are drastically modifying the world around us. How have animals adapted to this strange\, changing world?...\n______________________________\nThis Event Downloaded From a Helios Calendar Powered Site
LOCATION:San Francisco Bay Bird Observatory -  \, \, CA  
CATEGORIES:BayAreaScience.org Events
PRIORITY:0
TRANSP:TRANSPARENT
END:VEVENT
END:VCALENDAR