BEGIN:VCALENDAR
VERSION:2.0
METHOD:PUBLISH
CALSCALE:GREGORIAN
PRODID:-//Refresh Web Development//Helios Calendar//EN
X-FROM-URL:https://www.bayareascience.org/calendar/index.php?com=details&eID=30945
X-WR-RELCALID:BayAreaScience.org Measuring and Improving Engagement in Online Learning - Livestream 20210816T190000
X-WR-TIMEZONE:America/New_York
X-WR-CALNAME:BayAreaScience.org
BEGIN:VEVENT
URL;VALUE=URI:https://www.bayareascience.org/calendar/index.php?com=detail&eID=30945
DTSTART:20210816T190000
DTEND:20210816T210000
SUMMARY:Measuring and Improving Engagement in Online Learning - Livestream
DESCRIPTION:With a lot of learning shifting online\, many students turn their cameras off\, making it impossible for teachers to understand whether their students are engaged. Teachers feel that they are teaching...\n______________________________\nThis Event Downloaded From a Helios Calendar Powered Site
LOCATION:SF Bay Association of Computing Machinery -  \, \, CA  
CATEGORIES:BayAreaScience.org Events
PRIORITY:0
TRANSP:TRANSPARENT
END:VEVENT
END:VCALENDAR