BEGIN:VCALENDAR
VERSION:2.0
METHOD:PUBLISH
CALSCALE:GREGORIAN
PRODID:-//Refresh Web Development//Helios Calendar//EN
X-FROM-URL:https://www.bayareascience.org/calendar/index.php?com=details&eID=30952
X-WR-RELCALID:BayAreaScience.org A Cosmic Perspective: Searching for Aliens, Finding Ourselves - Livestream 20210722T170000
X-WR-TIMEZONE:America/New_York
X-WR-CALNAME:BayAreaScience.org
BEGIN:VEVENT
URL;VALUE=URI:https://www.bayareascience.org/calendar/index.php?com=detail&eID=30952
DTSTART:20210722T170000
DTEND:20210722T170000
SUMMARY:A Cosmic Perspective: Searching for Aliens\, Finding Ourselves - Livestream
DESCRIPTION:Are we alone? Humans have been asking this question throughout history. We want to know where we came from\, how we fit into the cosmos\, and where we are going. We want to know whether there is...\n______________________________\nThis Event Downloaded From a Helios Calendar Powered Site
LOCATION:SETI Institute -  \, \, CA  
CATEGORIES:BayAreaScience.org Events
PRIORITY:0
TRANSP:TRANSPARENT
END:VEVENT
END:VCALENDAR