BEGIN:VCALENDAR
VERSION:2.0
METHOD:PUBLISH
CALSCALE:GREGORIAN
PRODID:-//Refresh Web Development//Helios Calendar//EN
X-FROM-URL:https://www.bayareascience.org/calendar/index.php?com=details&eID=30967
X-WR-RELCALID:BayAreaScience.org Evening Tours of Lick Observatory - SOLD OUT 20210926T173000
X-WR-TIMEZONE:America/New_York
X-WR-CALNAME:BayAreaScience.org
BEGIN:VEVENT
URL;VALUE=URI:https://www.bayareascience.org/calendar/index.php?com=detail&eID=30967
DTSTART:20210926T173000
DTEND:20210926T173000
SUMMARY:Evening Tours of Lick Observatory - SOLD OUT
DESCRIPTION:The event will last approximately 4 to 6 hours. Visitors should be prepared to walk about one mile during the evening\, including taking stairs. Events are held rain or shine.The tour will...\n______________________________\nThis Event Downloaded From a Helios Calendar Powered Site
LOCATION:Lick Observatory - 7299 Mt. Hamilton Rd \, Mt. Hamilton\, CA  95140
CATEGORIES:BayAreaScience.org Events
PRIORITY:0
TRANSP:TRANSPARENT
END:VEVENT
END:VCALENDAR