BEGIN:VCALENDAR
VERSION:2.0
METHOD:PUBLISH
CALSCALE:GREGORIAN
PRODID:-//Refresh Web Development//Helios Calendar//EN
X-FROM-URL:https://www.bayareascience.org/calendar/index.php?com=details&eID=30987
X-WR-RELCALID:BayAreaScience.org Nature and History Walk 20210814T100000
X-WR-TIMEZONE:America/New_York
X-WR-CALNAME:BayAreaScience.org
BEGIN:VEVENT
URL;VALUE=URI:https://www.bayareascience.org/calendar/index.php?com=detail&eID=30987
DTSTART:20210814T100000
DTEND:20210814T123000
SUMMARY:Nature and History Walk
DESCRIPTION:Explore fascinating nature and history along Cerrito Creek and over Albany Hill. We'll repeat our May walk with leaders Karen Sorensen\, local historian and author of two books on Albany history\;...\n______________________________\nThis Event Downloaded From a Helios Calendar Powered Site
LOCATION:Cerrito Creek - Pierce St south of Cerrito Creek\, Albany\, CA  94706
CATEGORIES:BayAreaScience.org Events
PRIORITY:0
TRANSP:TRANSPARENT
END:VEVENT
END:VCALENDAR