BEGIN:VCALENDAR
VERSION:2.0
METHOD:PUBLISH
CALSCALE:GREGORIAN
PRODID:-//Refresh Web Development//Helios Calendar//EN
X-FROM-URL:https://www.bayareascience.org/calendar/index.php?com=details&eID=30997
X-WR-RELCALID:BayAreaScience.org Perseid Meteor Shower Watch Party - Sold Out 20210811T230000
X-WR-TIMEZONE:America/New_York
X-WR-CALNAME:BayAreaScience.org
BEGIN:VEVENT
URL;VALUE=URI:https://www.bayareascience.org/calendar/index.php?com=detail&eID=30997
DTSTART:20210811T230000
DTEND:20210812T030000
SUMMARY:Perseid Meteor Shower Watch Party - Sold Out
DESCRIPTION:Witness the peak of the dazzling Perseid Meteor Shower during this special in-person viewing on Chabotâ€™s Observation Deck. Stay up late as the shower makes it annual trip through our atmosphere...\n______________________________\nThis Event Downloaded From a Helios Calendar Powered Site
LOCATION:Chabot Space and Science Center - 10000 Skyline Blvd \, Oakland\, CA USA 94619
CATEGORIES:BayAreaScience.org Events
PRIORITY:0
TRANSP:TRANSPARENT
END:VEVENT
END:VCALENDAR