BEGIN:VCALENDAR
VERSION:2.0
METHOD:PUBLISH
CALSCALE:GREGORIAN
PRODID:-//Refresh Web Development//Helios Calendar//EN
X-FROM-URL:https://www.bayareascience.org/calendar/index.php?com=details&eID=31010
X-WR-RELCALID:BayAreaScience.org September LASER Event - Livestream 20210929T180000
X-WR-TIMEZONE:America/New_York
X-WR-CALNAME:BayAreaScience.org
BEGIN:VEVENT
URL;VALUE=URI:https://www.bayareascience.org/calendar/index.php?com=detail&eID=31010
DTSTART:20210929T180000
DTEND:20210929T180000
SUMMARY:September LASER Event - Livestream
DESCRIPTION:Cindy Cohn (Executive Director at the Electronic Frontier Foundation) on "Imagining A Future with Real Digital Privacy" \n______________________________\nThis Event Downloaded From a Helios Calendar Powered Site
LOCATION:LASER Leonardo Art Science Evening Rendezvous -  \, \, CA  
CATEGORIES:BayAreaScience.org Events
PRIORITY:0
TRANSP:TRANSPARENT
END:VEVENT
END:VCALENDAR