BEGIN:VCALENDAR
VERSION:2.0
METHOD:PUBLISH
CALSCALE:GREGORIAN
PRODID:-//Refresh Web Development//Helios Calendar//EN
X-FROM-URL:https://www.bayareascience.org/calendar/index.php?com=details&eID=31011
X-WR-RELCALID:BayAreaScience.org Salish Sea Minke Whales: Insights From a 40-Year Study of Photo-ID - Livestream 20210824T190000
X-WR-TIMEZONE:America/New_York
X-WR-CALNAME:BayAreaScience.org
BEGIN:VEVENT
URL;VALUE=URI:https://www.bayareascience.org/calendar/index.php?com=detail&eID=31011
DTSTART:20210824T190000
DTEND:20210824T203000
SUMMARY:Salish Sea Minke Whales: Insights From a 40-Year Study of Photo-ID - Livestream
DESCRIPTION:Minke whales are the most numerous whale species worldwide\, yet relatively little is known about this small whale. In the Northeast...\n______________________________\nThis Event Downloaded From a Helios Calendar Powered Site
LOCATION:American Cetacean Society -  \, \, CA  
CATEGORIES:BayAreaScience.org Events
PRIORITY:0
TRANSP:TRANSPARENT
END:VEVENT
END:VCALENDAR