BEGIN:VCALENDAR
VERSION:2.0
METHOD:PUBLISH
CALSCALE:GREGORIAN
PRODID:-//Refresh Web Development//Helios Calendar//EN
X-FROM-URL:https://www.bayareascience.org/calendar/index.php?com=details&eID=31013
X-WR-RELCALID:BayAreaScience.org Afternoon Hike at Rancho CaÃ±ada del Oro 20210818T170000
X-WR-TIMEZONE:America/New_York
X-WR-CALNAME:BayAreaScience.org
BEGIN:VEVENT
URL;VALUE=URI:https://www.bayareascience.org/calendar/index.php?com=detail&eID=31013
DTSTART:20210818T170000
DTEND:20210818T193000
SUMMARY:Afternoon Hike at Rancho CaÃ±ada del Oro
DESCRIPTION:On this moderate to strenuous 4-mile excursion\, youâ€™ll explore the Mayfair Ranch - Longwall Canyon trails of Rancho CaÃ±ada del Oro. Expect around 500 ft. of...\n______________________________\nThis Event Downloaded From a Helios Calendar Powered Site
LOCATION:Rancho CaÃ±ada Del Oro - 4289 Casa Loma Rd \, Morgan Hill\, CA  95037
CATEGORIES:BayAreaScience.org Events
PRIORITY:0
TRANSP:TRANSPARENT
END:VEVENT
END:VCALENDAR