BEGIN:VCALENDAR
VERSION:2.0
METHOD:PUBLISH
CALSCALE:GREGORIAN
PRODID:-//Refresh Web Development//Helios Calendar//EN
X-FROM-URL:https://www.bayareascience.org/calendar/index.php?com=details&eID=31014
X-WR-RELCALID:BayAreaScience.org Peering into the body - with less risk - Livestream 20210818T173000
X-WR-TIMEZONE:America/New_York
X-WR-CALNAME:BayAreaScience.org
BEGIN:VEVENT
URL;VALUE=URI:https://www.bayareascience.org/calendar/index.php?com=detail&eID=31014
DTSTART:20210818T173000
DTEND:20210818T173000
SUMMARY:Peering into the body - with less risk - Livestream
DESCRIPTION:Most medical imaging devices - X-rays and CT scans\, for example - use radiation to peer into the human body to produce images and other data that can help care providers arrive at a clinical diagnosis....\n______________________________\nThis Event Downloaded From a Helios Calendar Powered Site
LOCATION:UC Santa Cruz -  \, \, CA  
CATEGORIES:BayAreaScience.org Events
PRIORITY:0
TRANSP:TRANSPARENT
END:VEVENT
END:VCALENDAR