BEGIN:VCALENDAR
VERSION:2.0
METHOD:PUBLISH
CALSCALE:GREGORIAN
PRODID:-//Refresh Web Development//Helios Calendar//EN
X-FROM-URL:https://www.bayareascience.org/calendar/index.php?com=details&eID=31017
X-WR-RELCALID:BayAreaScience.org Que Sera, Sera. Is the future ours to see? The Great Australian Psychic Prediction Project - Livestream 20210909T193000
X-WR-TIMEZONE:America/New_York
X-WR-CALNAME:BayAreaScience.org
BEGIN:VEVENT
URL;VALUE=URI:https://www.bayareascience.org/calendar/index.php?com=detail&eID=31017
DTSTART:20210909T193000
DTEND:20210909T193000
SUMMARY:Que Sera\, Sera. Is the future ours to see? The Great Australian Psychic Prediction Project - Livestream
DESCRIPTION:For more than 10 years\,...\n______________________________\nThis Event Downloaded From a Helios Calendar Powered Site
LOCATION:Bay Area Skeptics -  \, \, CA  
CATEGORIES:BayAreaScience.org Events
PRIORITY:0
TRANSP:TRANSPARENT
END:VEVENT
END:VCALENDAR