BEGIN:VCALENDAR
VERSION:2.0
METHOD:PUBLISH
CALSCALE:GREGORIAN
PRODID:-//Refresh Web Development//Helios Calendar//EN
X-FROM-URL:https://www.bayareascience.org/calendar/index.php?com=details&eID=31021
X-WR-RELCALID:BayAreaScience.org Double Stars: Observing Double - Livestream 20210820T193000
X-WR-TIMEZONE:America/New_York
X-WR-CALNAME:BayAreaScience.org
BEGIN:VEVENT
URL;VALUE=URI:https://www.bayareascience.org/calendar/index.php?com=detail&eID=31021
DTSTART:20210820T193000
DTEND:20210820T193000
SUMMARY:Double Stars: Observing Double - Livestream
DESCRIPTION:About half the stars in the sky are multiple stars. They are fun to observe\, particularly the ones with a wide range of temperatures which results in different colors. They are also very important...\n______________________________\nThis Event Downloaded From a Helios Calendar Powered Site
LOCATION:Tri-Valley Stargazers -  \, \, CA  
CATEGORIES:BayAreaScience.org Events
PRIORITY:0
TRANSP:TRANSPARENT
END:VEVENT
END:VCALENDAR