BEGIN:VCALENDAR
VERSION:2.0
METHOD:PUBLISH
CALSCALE:GREGORIAN
PRODID:-//Refresh Web Development//Helios Calendar//EN
X-FROM-URL:https://www.bayareascience.org/calendar/index.php?com=details&eID=31026
X-WR-RELCALID:BayAreaScience.org A robot CHIP (COVID Help Intelligent Patro) to enforce social distance & serve - Livestream 20210818T190000
X-WR-TIMEZONE:America/New_York
X-WR-CALNAME:BayAreaScience.org
BEGIN:VEVENT
URL;VALUE=URI:https://www.bayareascience.org/calendar/index.php?com=detail&eID=31026
DTSTART:20210818T190000
DTEND:20210818T210000
SUMMARY:A robot CHIP (COVID Help Intelligent Patro) to enforce social distance & serve - Livestream
DESCRIPTION:The entire world is hurting because of COVID-19. We must stop its spread\, stabilize its curve\, and make better preparations for future outbreaks. Since the COVID-19 outbreak\, counties have published...\n______________________________\nThis Event Downloaded From a Helios Calendar Powered Site
LOCATION:SF Bay Association of Computing Machinery -  \, \, CA  
CATEGORIES:BayAreaScience.org Events
PRIORITY:0
TRANSP:TRANSPARENT
END:VEVENT
END:VCALENDAR