BEGIN:VCALENDAR
VERSION:2.0
METHOD:PUBLISH
CALSCALE:GREGORIAN
PRODID:-//Refresh Web Development//Helios Calendar//EN
X-FROM-URL:https://www.bayareascience.org/calendar/index.php?com=details&eID=31029
X-WR-RELCALID:BayAreaScience.org System Error: Rebooting our Tech Future 20210908T190000
X-WR-TIMEZONE:America/New_York
X-WR-CALNAME:BayAreaScience.org
BEGIN:VEVENT
URL;VALUE=URI:https://www.bayareascience.org/calendar/index.php?com=detail&eID=31029
DTSTART:20210908T190000
DTEND:20210908T190000
SUMMARY:System Error: Rebooting our Tech Future
DESCRIPTION:Big tech's relentless focus on optimization is driving a future that reinforces discrimination\, erodes privacy\, displaces workers\, and pollutes the information we get.It doesn't need to...\n______________________________\nThis Event Downloaded From a Helios Calendar Powered Site
LOCATION:Computer History Museum - 1401 N Shoreline Blvd  \, Mountain View\, CA  94043
CATEGORIES:BayAreaScience.org Events
PRIORITY:0
TRANSP:TRANSPARENT
END:VEVENT
END:VCALENDAR