BEGIN:VCALENDAR
VERSION:2.0
METHOD:PUBLISH
CALSCALE:GREGORIAN
PRODID:-//Refresh Web Development//Helios Calendar//EN
X-FROM-URL:https://www.bayareascience.org/calendar/index.php?com=details&eID=31030
X-WR-RELCALID:BayAreaScience.org  SETI Live: Tracking Lightning from Space to Predict Weather on Earth - Livestream 20210803T140000
X-WR-TIMEZONE:America/New_York
X-WR-CALNAME:BayAreaScience.org
BEGIN:VEVENT
URL;VALUE=URI:https://www.bayareascience.org/calendar/index.php?com=detail&eID=31030
DTSTART:20210803T140000
DTEND:20210803T143000
SUMMARY: SETI Live: Tracking Lightning from Space to Predict Weather on Earth - Livestream
DESCRIPTION:Lightning flashes can be excellent predictors of incoming storms\, tornadoes\, and other severe weather events and are used by meteorologists to warn local communities of oncoming severe weather...\n______________________________\nThis Event Downloaded From a Helios Calendar Powered Site
LOCATION:SETI Institute -  \, \, CA  
CATEGORIES:BayAreaScience.org Events
PRIORITY:0
TRANSP:TRANSPARENT
END:VEVENT
END:VCALENDAR