BEGIN:VCALENDAR
VERSION:2.0
METHOD:PUBLISH
CALSCALE:GREGORIAN
PRODID:-//Refresh Web Development//Helios Calendar//EN
X-FROM-URL:https://www.bayareascience.org/calendar/index.php?com=details&eID=31035
X-WR-RELCALID:BayAreaScience.org What the Heck is Cognitive-Behavioral Therapy (CBT)? A Psychology Professor Tells All! 20210830T170000
X-WR-TIMEZONE:America/New_York
X-WR-CALNAME:BayAreaScience.org
BEGIN:VEVENT
URL;VALUE=URI:https://www.bayareascience.org/calendar/index.php?com=detail&eID=31035
DTSTART:20210830T170000
DTEND:20210830T170000
SUMMARY:What the Heck is Cognitive-Behavioral Therapy (CBT)? A Psychology Professor Tells All!
DESCRIPTION:In this 60 minute talk\, I will describe what CBT is and how it differs from other kinds of psychotherapy. I will explain what to look for in a good CBT therapist and once you begin\, how to maximize...\n______________________________\nThis Event Downloaded From a Helios Calendar Powered Site
LOCATION:Speakeasy Science -  \, \, CA  
CATEGORIES:BayAreaScience.org Events
PRIORITY:0
TRANSP:TRANSPARENT
END:VEVENT
END:VCALENDAR