BEGIN:VCALENDAR
VERSION:2.0
METHOD:PUBLISH
CALSCALE:GREGORIAN
PRODID:-//Refresh Web Development//Helios Calendar//EN
X-FROM-URL:https://www.bayareascience.org/calendar/index.php?com=details&eID=31036
X-WR-RELCALID:BayAreaScience.org Introduction To Data Analysis with Python Workshop 20210804T115000
X-WR-TIMEZONE:America/New_York
X-WR-CALNAME:BayAreaScience.org
BEGIN:VEVENT
URL;VALUE=URI:https://www.bayareascience.org/calendar/index.php?com=detail&eID=31036
DTSTART:20210804T115000
DTEND:20210804T135000
SUMMARY:Introduction To Data Analysis with Python Workshop
DESCRIPTION:This...\n______________________________\nThis Event Downloaded From a Helios Calendar Powered Site
LOCATION:Magnimind Academy -  \, \, CA  
CATEGORIES:BayAreaScience.org Events
PRIORITY:0
TRANSP:TRANSPARENT
END:VEVENT
END:VCALENDAR