BEGIN:VCALENDAR
VERSION:2.0
METHOD:PUBLISH
CALSCALE:GREGORIAN
PRODID:-//Refresh Web Development//Helios Calendar//EN
X-FROM-URL:https://www.bayareascience.org/calendar/index.php?com=details&eID=31044
X-WR-RELCALID:BayAreaScience.org Nerd Nite SF #119: A clock, some milk, and a dash of fungal affliction! 20210818T200000
X-WR-TIMEZONE:America/New_York
X-WR-CALNAME:BayAreaScience.org
BEGIN:VEVENT
URL;VALUE=URI:https://www.bayareascience.org/calendar/index.php?com=detail&eID=31044
DTSTART:20210818T200000
DTEND:20210818T200000
SUMMARY:Nerd Nite SF #119: A clock\, some milk\, and a dash of fungal affliction!
DESCRIPTION:Hello friends. Ever wonder what itâ€™s like to get suffocated by your own skin? Well then do we have the talk for you! Gordon Lau...\n______________________________\nThis Event Downloaded From a Helios Calendar Powered Site
LOCATION:Rickshaw Stop - 155 Fell St. @ Van Ness \, San Francisco\, CA  94102
CATEGORIES:BayAreaScience.org Events
PRIORITY:0
TRANSP:TRANSPARENT
END:VEVENT
END:VCALENDAR