BEGIN:VCALENDAR
VERSION:2.0
METHOD:PUBLISH
CALSCALE:GREGORIAN
PRODID:-//Refresh Web Development//Helios Calendar//EN
X-FROM-URL:https://www.bayareascience.org/calendar/index.php?com=details&eID=31045
X-WR-RELCALID:BayAreaScience.org Caring for Ourselves: The Science of Emotional Resilience - Livestream 20210824T140000
X-WR-TIMEZONE:America/New_York
X-WR-CALNAME:BayAreaScience.org
BEGIN:VEVENT
URL;VALUE=URI:https://www.bayareascience.org/calendar/index.php?com=detail&eID=31045
DTSTART:20210824T140000
DTEND:20210824T150000
SUMMARY:Caring for Ourselves: The Science of Emotional Resilience - Livestream
DESCRIPTION:As we continue to navigate the COVID-19 crisis\, how can we re-emerge with a sense of hope and vitality? Join us for a talk with Amy Eva\, Associate Education Director at the Greater Good Science...\n______________________________\nThis Event Downloaded From a Helios Calendar Powered Site
LOCATION:UC Berkeley -  \, \, CA  
CATEGORIES:BayAreaScience.org Events
PRIORITY:0
TRANSP:TRANSPARENT
END:VEVENT
END:VCALENDAR