BEGIN:VCALENDAR
VERSION:2.0
METHOD:PUBLISH
CALSCALE:GREGORIAN
PRODID:-//Refresh Web Development//Helios Calendar//EN
X-FROM-URL:https://www.bayareascience.org/calendar/index.php?com=details&eID=31046
X-WR-RELCALID:BayAreaScience.org Sharktober - Celebrating Sharks: Why We Need Them, Why We Need to Protect Them - Livestream 20210928T190000
X-WR-TIMEZONE:America/New_York
X-WR-CALNAME:BayAreaScience.org
BEGIN:VEVENT
URL;VALUE=URI:https://www.bayareascience.org/calendar/index.php?com=detail&eID=31046
DTSTART:20210928T190000
DTEND:20210928T203000
SUMMARY:Sharktober - Celebrating Sharks: Why We Need Them\, Why We Need to Protect Them - Livestream
DESCRIPTION:Join us for an exciting presentation by David McGuire\, Founder of Shark Stewards. Mr. McGuire will discuss his research and work to save and protect sharks around the world. Sharks are an apex...\n______________________________\nThis Event Downloaded From a Helios Calendar Powered Site
LOCATION:American Cetacean Society -  \, \, CA  
CATEGORIES:BayAreaScience.org Events
PRIORITY:0
TRANSP:TRANSPARENT
END:VEVENT
END:VCALENDAR