BEGIN:VCALENDAR
VERSION:2.0
METHOD:PUBLISH
CALSCALE:GREGORIAN
PRODID:-//Refresh Web Development//Helios Calendar//EN
X-FROM-URL:https://www.bayareascience.org/calendar/index.php?com=details&eID=31047
X-WR-RELCALID:BayAreaScience.org Air Pollution in High Definition: Building Low-Cost Sensor Networks & Community Partnerships - Livestream 20210918T103000
X-WR-TIMEZONE:America/New_York
X-WR-CALNAME:BayAreaScience.org
BEGIN:VEVENT
URL;VALUE=URI:https://www.bayareascience.org/calendar/index.php?com=detail&eID=31047
DTSTART:20210918T103000
DTEND:20210918T120000
SUMMARY:Air Pollution in High Definition: Building Low-Cost Sensor Networks & Community Partnerships - Livestream
DESCRIPTION:Measuring atmospheric pollutants at high spatiotemporal resolution has the potential to help identify problematic sources as well as pinpoint communities facing disproportionate risks. Most traditional...\n______________________________\nThis Event Downloaded From a Helios Calendar Powered Site
LOCATION:California Section American Chemical Society -  \, \, CA  
CATEGORIES:BayAreaScience.org Events
PRIORITY:0
TRANSP:TRANSPARENT
END:VEVENT
END:VCALENDAR