BEGIN:VCALENDAR
VERSION:2.0
METHOD:PUBLISH
CALSCALE:GREGORIAN
PRODID:-//Refresh Web Development//Helios Calendar//EN
X-FROM-URL:https://www.bayareascience.org/calendar/index.php?com=details&eID=31049
X-WR-RELCALID:BayAreaScience.org NightSchool: Nature is Nurture - Livestream 20210902T190000
X-WR-TIMEZONE:America/New_York
X-WR-CALNAME:BayAreaScience.org
BEGIN:VEVENT
URL;VALUE=URI:https://www.bayareascience.org/calendar/index.php?com=detail&eID=31049
DTSTART:20210902T190000
DTEND:20210902T190000
SUMMARY:NightSchool: Nature is Nurture - Livestream
DESCRIPTION:How does nature nurture human health? Join scientists as they share the surprising ways poison birds and biodiversity can impact medicine and public health.Ages 21+See weblink for...\n______________________________\nThis Event Downloaded From a Helios Calendar Powered Site
LOCATION:California Academy of Sciences -  \, \, CA  
CATEGORIES:BayAreaScience.org Events
PRIORITY:0
TRANSP:TRANSPARENT
END:VEVENT
END:VCALENDAR