BEGIN:VCALENDAR
VERSION:2.0
METHOD:PUBLISH
CALSCALE:GREGORIAN
PRODID:-//Refresh Web Development//Helios Calendar//EN
X-FROM-URL:https://www.bayareascience.org/calendar/index.php?com=details&eID=31050
X-WR-RELCALID:BayAreaScience.org  SETI Talks: Can we define life? Should we? - Livestream 20210818T190000
X-WR-TIMEZONE:America/New_York
X-WR-CALNAME:BayAreaScience.org
BEGIN:VEVENT
URL;VALUE=URI:https://www.bayareascience.org/calendar/index.php?com=detail&eID=31050
DTSTART:20210818T190000
DTEND:20210818T203000
SUMMARY: SETI Talks: Can we define life? Should we? - Livestream
DESCRIPTION:What is the difference between you and a rock? Are stars alive? Is a computer virus a living being? These may seem like easy questions\, but scientists have struggled to formulate a universal definition...\n______________________________\nThis Event Downloaded From a Helios Calendar Powered Site
LOCATION:SETI Institute -  \, \, CA  
CATEGORIES:BayAreaScience.org Events
PRIORITY:0
TRANSP:TRANSPARENT
END:VEVENT
END:VCALENDAR