BEGIN:VCALENDAR
VERSION:2.0
METHOD:PUBLISH
CALSCALE:GREGORIAN
PRODID:-//Refresh Web Development//Helios Calendar//EN
X-FROM-URL:https://www.bayareascience.org/calendar/index.php?com=details&eID=31052
X-WR-RELCALID:BayAreaScience.org Artificial intelligence approaches towards hybridizing analytical and data-driven decision-making - Livestream 20210825T160000
X-WR-TIMEZONE:America/New_York
X-WR-CALNAME:BayAreaScience.org
BEGIN:VEVENT
URL;VALUE=URI:https://www.bayareascience.org/calendar/index.php?com=detail&eID=31052
DTSTART:20210825T160000
DTEND:20210825T171500
SUMMARY:Artificial intelligence approaches towards hybridizing analytical and data-driven decision-making - Livestream
DESCRIPTION:Speaker: Professor Ruth Misener\, Imperial College\, LondonSee weblink for Zoom information\n______________________________\nThis Event Downloaded From a Helios Calendar Powered Site
LOCATION:UC Berkeley -  \, \, CA  
CATEGORIES:BayAreaScience.org Events
PRIORITY:0
TRANSP:TRANSPARENT
END:VEVENT
END:VCALENDAR