BEGIN:VCALENDAR
VERSION:2.0
METHOD:PUBLISH
CALSCALE:GREGORIAN
PRODID:-//Refresh Web Development//Helios Calendar//EN
X-FROM-URL:https://www.bayareascience.org/calendar/index.php?com=details&eID=31054
X-WR-RELCALID:BayAreaScience.org Holiday Rock, Gem, and Lapidary Show and Sale 20211121T100000
X-WR-TIMEZONE:America/New_York
X-WR-CALNAME:BayAreaScience.org
BEGIN:VEVENT
URL;VALUE=URI:https://www.bayareascience.org/calendar/index.php?com=detail&eID=31054
DTSTART:20211121T100000
DTEND:20211121T170000
SUMMARY:Holiday Rock\, Gem\, and Lapidary Show and Sale
DESCRIPTION:The Santa Cruz Mineral and Gem Society invites you to the annual holiday sale organized by members of the club. Come and see wonderful gifts of nature and art from around the world - gems\, jewelry\,...\n______________________________\nThis Event Downloaded From a Helios Calendar Powered Site
LOCATION:Santa Cruz Live Oak Grange - 1900 17th Ave. \, Santa Cruz\, CA USA 95073
CATEGORIES:BayAreaScience.org Events
PRIORITY:0
TRANSP:TRANSPARENT
END:VEVENT
END:VCALENDAR