BEGIN:VCALENDAR
VERSION:2.0
METHOD:PUBLISH
CALSCALE:GREGORIAN
PRODID:-//Refresh Web Development//Helios Calendar//EN
X-FROM-URL:https://www.bayareascience.org/calendar/index.php?com=details&eID=31059
X-WR-RELCALID:BayAreaScience.org Visualizing a Better Future: Celebrating Andries van Dam - Livestream 20210923T170000
X-WR-TIMEZONE:America/New_York
X-WR-CALNAME:BayAreaScience.org
BEGIN:VEVENT
URL;VALUE=URI:https://www.bayareascience.org/calendar/index.php?com=detail&eID=31059
DTSTART:20210923T170000
DTEND:20210923T184500
SUMMARY:Visualizing a Better Future: Celebrating Andries van Dam - Livestream
DESCRIPTION:Do you watch animated movies or play video games? Do you click on a digital link or image to see more? Do you puzzle over the ethical use of computer technology?\n______________________________\nThis Event Downloaded From a Helios Calendar Powered Site
LOCATION:Computer History Museum -  \, \, CA  
CATEGORIES:BayAreaScience.org Events
PRIORITY:0
TRANSP:TRANSPARENT
END:VEVENT
END:VCALENDAR