BEGIN:VCALENDAR
VERSION:2.0
METHOD:PUBLISH
CALSCALE:GREGORIAN
PRODID:-//Refresh Web Development//Helios Calendar//EN
X-FROM-URL:https://www.bayareascience.org/calendar/index.php?com=details&eID=31062
X-WR-RELCALID:BayAreaScience.org Democratizinig Our Data 20210826T100000
X-WR-TIMEZONE:America/New_York
X-WR-CALNAME:BayAreaScience.org
BEGIN:VEVENT
URL;VALUE=URI:https://www.bayareascience.org/calendar/index.php?com=detail&eID=31062
DTSTART:20210826T100000
DTEND:20210826T110000
SUMMARY:Democratizinig Our Data
DESCRIPTION:There is enormous interest in building...\n______________________________\nThis Event Downloaded From a Helios Calendar Powered Site
LOCATION:Barrows Hall\, Rm 820 - UC Berkeley \, Berkeley\, CA  94720
CATEGORIES:BayAreaScience.org Events
PRIORITY:0
TRANSP:TRANSPARENT
END:VEVENT
END:VCALENDAR